BEGIN:VCALENDAR
VERSION:2.0
PRODID:Events Booking
BEGIN:VEVENT
UID:69e5b7b870875
SUMMARY:Veluwse Modelautobeurs
DESCRIPTION:
LOCATION:Gelderland\, Nederland
DTSTART:20260328T090000Z
DTEND:20260328T140000Z
DTSTAMP:20260304T091115Z
ORGANIZER;CN=Bromoold:MAILTO:info@bromoold.nl
GEO:52.417855;5.873245
X-APPLE-STRUCTURED-LOCATION;VALUE=URI;X-ADDRESS=Gelderland\, Nederland;X-AP
 PLE-RADIUS=72;X-TITLE='t Harde:52.417855;5.873245
END:VEVENT
END:VCALENDAR