BEGIN:VCALENDAR
VERSION:2.0
PRODID:Events Booking
BEGIN:VEVENT
UID:69e5a0cf549b2
SUMMARY:Tour du ALS Support Rally
DESCRIPTION:Collega Ronald Brandenburg organiseert een speciale sponsor-toe
 rtocht hier in de regio. De volledige opbrengst gaat naar zijn deelname aa
 n de Tour du ALS\, waar hij deze zomer de Mont Ventoux zal beklimmen voor 
 het goede doel.
LOCATION:Zuid-Holland\, Nederland
DTSTART:20260329T100000Z
DTEND:20260329T140000Z
DTSTAMP:20260305T092941Z
ORGANIZER;CN=Bromoold:MAILTO:info@bromoold.nl
GEO:52.113069;4.640806
X-APPLE-STRUCTURED-LOCATION;VALUE=URI;X-ADDRESS=Zuid-Holland\, Nederland;X-
 APPLE-RADIUS=72;X-TITLE=Alphen aan den Rijn:52.113069;4.640806
END:VEVENT
END:VCALENDAR