BEGIN:VCALENDAR
VERSION:2.0
PRODID:Events Booking
BEGIN:VEVENT
UID:69e4dc7f59735
SUMMARY:Toerrit Zuid-Limburg
DESCRIPTION:
LOCATION:Limburg\, Nederland
DTSTART:20260516T090000Z
DTEND:20260515T220000Z
DTSTAMP:20260303T113526Z
ORGANIZER;CN=Bromoold:MAILTO:info@bromoold.nl
GEO:50.768799;5.812129
X-APPLE-STRUCTURED-LOCATION;VALUE=URI;X-ADDRESS=Limburg\, Nederland;X-APPLE
 -RADIUS=72;X-TITLE=Noorbeek:50.768799;5.812129
END:VEVENT
END:VCALENDAR