BEGIN:VCALENDAR
VERSION:2.0
PRODID:Events Booking
BEGIN:VEVENT
UID:69ea8835b1541
SUMMARY:Pinksterrit Brummen
DESCRIPTION:Op zaterdag staat alles in het teken van rijdend erfgoed en pra
 chtige routes door de regio. De Pinksterrit is dit jaar uitgebreid en veel
 zijdiger dan ooit!
 Naast klassieke auto’s (minimaal 30 jaar oud) doen 
 dit jaar óók&nbsp\;tractoren en brommers&nbsp\;mee. Dit zorgt voor een u
 nieke mix van nostalgie en karakter op wielen – een rijdend spektakel vo
 or jong en oud.
LOCATION:Brummen\, Nederland
DTSTART:20260523T090000Z
DTEND:20260523T150000Z
DTSTAMP:20260423T102622Z
ORGANIZER;CN=Bromoold:MAILTO:info@bromoold.nl
GEO:52.090167;6.158015
X-APPLE-STRUCTURED-LOCATION;VALUE=URI;X-ADDRESS=Brummen\, Nederland;X-APPLE
 -RADIUS=72;X-TITLE=Brummen:52.090167;6.158015
END:VEVENT
END:VCALENDAR