BEGIN:VCALENDAR
VERSION:2.0
PRODID:Events Booking
BEGIN:VEVENT
UID:69e5a1917cf52
SUMMARY:Oldtimerdag Alphen aan den Rijn
DESCRIPTION:Komend jaar is alweer de 44e Oldtimerdag op zaterdag 12 septemb
 er 2026. We hopen dat het weer een geweldige dag wordt. Vanaf 11.00 tot 17
 .00 is het weer genieten van al het moois dat langs de Hooftstraat en Ouds
 hoornseweg tentoon wordt gespreid.
LOCATION:Zuid-Holland\, Nederland
DTSTART:20260912T090000Z
DTEND:20260912T150000Z
DTSTAMP:20260310T101855Z
ORGANIZER;CN=Bromoold:MAILTO:info@bromoold.nl
GEO:52.113069;4.640806
X-APPLE-STRUCTURED-LOCATION;VALUE=URI;X-ADDRESS=Zuid-Holland\, Nederland;X-
 APPLE-RADIUS=72;X-TITLE=Alphen aan den Rijn:52.113069;4.640806
END:VEVENT
END:VCALENDAR