BEGIN:VCALENDAR
VERSION:2.0
PRODID:Events Booking
BEGIN:VEVENT
UID:69e58d4245ab5
SUMMARY:Oldtimer Tag AR Haus
DESCRIPTION:Mit Oldtimers und Big Rey
LOCATION:Geeste\, 49744 Niedersachsen\, Deutschland
DTSTART:20260613T110000Z
DTEND:20260612T220000Z
DTSTAMP:20260303T094412Z
ORGANIZER;CN=Bromoold:MAILTO:info@bromoold.nl
GEO:52.588614;7.228259
X-APPLE-STRUCTURED-LOCATION;VALUE=URI;X-ADDRESS=Geeste\, 49744 Niedersachse
 n\, Deutschland;X-APPLE-RADIUS=72;X-TITLE=Dalum:52.588614;7.228259
END:VEVENT
END:VCALENDAR