BEGIN:VCALENDAR
VERSION:2.0
PRODID:Events Booking
BEGIN:VEVENT
UID:69ea3d7c7ec65
SUMMARY:Meer Peut Opendag
DESCRIPTION:
LOCATION:Tzummarum\, 8851 EH Fryslân\, Nederland
DTSTART:20260821T220000Z
DTEND:20260821T220000Z
DTSTAMP:20260415T103605Z
ORGANIZER;CN=Bromoold:MAILTO:info@bromoold.nl
GEO:53.241705;5.554513
X-APPLE-STRUCTURED-LOCATION;VALUE=URI;X-ADDRESS=Tzummarum\, 8851 EH Fryslâ
 n\, Nederland;X-APPLE-RADIUS=72;X-TITLE=Tzummarum:53.241705;5.554513
END:VEVENT
END:VCALENDAR