BEGIN:VCALENDAR
VERSION:2.0
PRODID:Events Booking
BEGIN:VEVENT
UID:69e6013ca781b
SUMMARY:Cars and Coffee SAGA CLASSIC
DESCRIPTION:Liefhebbers van Mercedes-Benz opgelet!Van iconische oldtimers t
 ot karaktervolle youngtimers en de nieuwste modellen: tijdens Cars &amp\; 
 Coffee brengen we alle generaties samen op één plek. Geniet van schitter
 ende wagens\, sterke verhalen en natuurlijk een goede kop koffie.Een ontsp
 annen ontmoetingsmoment voor fans\, eigenaars en bewonderaars van het merk
  met de ster.
LOCATION:Brabant wallon\, België / Belgique / Belgien
DTSTART:20260426T080000Z
DTEND:20260426T130000Z
DTSTAMP:20260305T091126Z
ORGANIZER;CN=Bromoold:MAILTO:info@bromoold.nl
GEO:50.597689;4.323585
X-APPLE-STRUCTURED-LOCATION;VALUE=URI;X-ADDRESS=Brabant wallon\, België / 
 Belgique / Belgien;X-APPLE-RADIUS=72;X-TITLE=Nivelles:50.597689;4.323585
END:VEVENT
END:VCALENDAR