BEGIN:VCALENDAR
VERSION:2.0
PRODID:Events Booking
BEGIN:VEVENT
UID:69ed70d219564
SUMMARY:Gouwe Ouwe Rit
DESCRIPTION:
LOCATION:Noord-Brabant\, Nederland
DTSTART:20260425T220000Z
DTEND:20260425T220000Z
DTSTAMP:20260415T103807Z
ORGANIZER;CN=Bromoold:MAILTO:info@bromoold.nl
GEO:51.509311;5.637554
X-APPLE-STRUCTURED-LOCATION;VALUE=URI;X-ADDRESS=Noord-Brabant\, Nederland;X
 -APPLE-RADIUS=72;X-TITLE=Aarle-Rixtel:51.509311;5.637554
END:VEVENT
END:VCALENDAR