BEGIN:VCALENDAR
VERSION:2.0
PRODID:Events Booking
BEGIN:VEVENT
UID:69e5df71a208e
SUMMARY:Art on Wheels
DESCRIPTION:Nog geen jaar na de officiële opening kondigt Squadra zijn all
 ereerste thematentoonstelling aan: \"Art on Wheels\" neemt je mee op een f
 ascinerende reis door de wereld van de motorfiets\, met een bijzondere foc
 us op Italië en België – twee landen met rijke maar verschillende moto
 rtradities.
 Van 6 februari tot en met 26 april kan je een collectie ontd
 ekken van zo’n 70 historische motoren\, geselecteerd op hun uitzonderlij
 k verhaal\, ontwerp en authenticiteit. Italië en België ontmoeten elkaar
  in een fascinerende mix van stijl\, techniek en motorsportgeschiedenis. E
 en must-see voor motorliefhebbers én designfans.Met een toegangsticket he
 b je toegang tot het museum én de tijdelijke tentoonstelling 'Art on Whee
 ls'.
 OPENINGSTIJDEN:Woensdag t/m zondag 10.00 - 17.00 uurMaandag en dins
 dag geslotenZaterdag 28/02 gesloten
LOCATION:2500 Antwerpen\, België / Belgique / Belgien
DTSTART:20260206T090000Z
DTEND:20260426T150000Z
DTSTAMP:20260203T073726Z
ORGANIZER;CN=Bromoold:MAILTO:info@bromoold.nl
GEO:51.131069;4.569652
X-APPLE-STRUCTURED-LOCATION;VALUE=URI;X-ADDRESS=2500 Antwerpen\, België / 
 Belgique / Belgien;X-APPLE-RADIUS=72;X-TITLE=Lier:51.131069;4.569652
END:VEVENT
END:VCALENDAR