BEGIN:VCALENDAR
VERSION:2.0
PRODID:Events Booking
BEGIN:VEVENT
UID:69eb89500f3e3
SUMMARY:Gijs van Lennep Legend Rally
DESCRIPTION:Eenmalig juni. Dit wil je niet missen.Na veertien edities in au
 gustus voelt het anders\, maar dit jaar rijden we de Gijs van Lennep Legen
 d Rally op 14 juni. En precies daarom lijkt het alsof sommigen nog even wa
 chten met inschrijven.Dat zou zonde zijn.De 15e jubileumeditie staat weer 
 voor alles waar deze rally om bekendstaat: een prachtige route\, sterke te
 ams\, goed gezelschap en een dag die klopt van begin tot eind. We starten 
 in stijl\, lunchen zoals je van ons gewend bent en finishen op het mooie L
 andgoed Houdringe.Daarnaast rijden we voor een doel dat ertoe doet: de Bib
 ian Mentel Foundation. Daarmee krijgt deze dag nog meer betekenis.
LOCATION:Arnhem\, Nederland
DTSTART:20260613T220000Z
DTEND:20260613T220000Z
DTSTAMP:20260424T072416Z
ORGANIZER;CN=Bromoold:MAILTO:info@bromoold.nl
GEO:51.985103;5.89873
X-APPLE-STRUCTURED-LOCATION;VALUE=URI;X-ADDRESS=Arnhem\, Nederland;X-APPLE-
 RADIUS=72;X-TITLE=Arnhem:51.985103;5.89873
END:VEVENT
END:VCALENDAR