BEGIN:VCALENDAR
VERSION:2.0
PRODID:Events Booking
BEGIN:VEVENT
UID:69e7bb70261b0
SUMMARY:Vintage Iron Revelry Car and Bike Show
DESCRIPTION:
LOCATION:Lecompton\, KS 66050\, USA
DTSTART:20260529T220000Z
DTEND:20260529T220000Z
DTSTAMP:20260421T071917Z
ORGANIZER;CN=Bromoold:MAILTO:info@bromoold.nl
GEO:39.044445;-95.394697
X-APPLE-STRUCTURED-LOCATION;VALUE=URI;X-ADDRESS=Lecompton\, KS 66050\, USA;
 X-APPLE-RADIUS=72;X-TITLE=Lecompton:39.044445;-95.394697
END:VEVENT
END:VCALENDAR