BEGIN:VCALENDAR
VERSION:2.0
PRODID:Events Booking
BEGIN:VEVENT
UID:69e56c7423b0e
SUMMARY:Speed-Factory Street Party
DESCRIPTION:
LOCATION:Noord-Brabant\, Nederland
DTSTART:20260531T090000Z
DTEND:20260531T160000Z
DTSTAMP:20260304T074644Z
ORGANIZER;CN=Bromoold:MAILTO:info@bromoold.nl
GEO:51.312116;5.61586
X-APPLE-STRUCTURED-LOCATION;VALUE=URI;X-ADDRESS=Noord-Brabant\, Nederland;X
 -APPLE-RADIUS=72;X-TITLE=Maarheeze:51.312116;5.61586
END:VEVENT
END:VCALENDAR