BEGIN:VCALENDAR
VERSION:2.0
PRODID:Events Booking
BEGIN:VEVENT
UID:69e7b7479ed75
SUMMARY:Mitsubishi Klassieker Meeting
DESCRIPTION:Deze meeting is bedoeld voor Eigenaren\, Liefhebber – Geïnte
 resseerdenVan Oude Klassieke modellen van Mitsubishi van 1975-1996
LOCATION:Zwolle\, Nederland
DTSTART:20260607T090000Z
DTEND:20260607T140000Z
DTSTAMP:20260421T061112Z
ORGANIZER;CN=Bromoold:MAILTO:info@bromoold.nl
GEO:52.516775;6.083022
X-APPLE-STRUCTURED-LOCATION;VALUE=URI;X-ADDRESS=Zwolle\, Nederland;X-APPLE-
 RADIUS=72;X-TITLE=Zwolle:52.516775;6.083022
END:VEVENT
END:VCALENDAR