BEGIN:VCALENDAR
VERSION:2.0
PRODID:Events Booking
BEGIN:VEVENT
UID:69ea9dccbb312
SUMMARY:Classic Car Cruise Night
DESCRIPTION:
 Beste Oldtimer liefhebbers\,
 
 
 Dinsdag 28 april gaat d
 e eerste meeting weer van start.
 
 
 Wij hebben er ontzettend veel zin
  in\, staat je oldtimer al klaar 
 
LOCATION:Zuid-Holland\, Nederland
DTSTART:20260427T220000Z
DTEND:20260427T220000Z
DTSTAMP:20260423T105744Z
ORGANIZER;CN=Bromoold:MAILTO:info@bromoold.nl
GEO:51.768367;4.444454
X-APPLE-STRUCTURED-LOCATION;VALUE=URI;X-ADDRESS=Zuid-Holland\, Nederland;X-
 APPLE-RADIUS=72;X-TITLE=Klaaswaal:51.768367;4.444454
END:VEVENT
END:VCALENDAR