BEGIN:VCALENDAR
VERSION:2.0
PRODID:Events Booking
BEGIN:VEVENT
UID:69ea9dcd7abc0
SUMMARY:Classic Audi Meeting Polderbaan
DESCRIPTION:Alle Audi's ouder dan 2010!
LOCATION:Vijfhuizen\, Nederland
DTSTART:20260510T090000Z
DTEND:20260510T133000Z
DTSTAMP:20260423T105340Z
ORGANIZER;CN=Bromoold:MAILTO:info@bromoold.nl
GEO:52.352428;4.682585
X-APPLE-STRUCTURED-LOCATION;VALUE=URI;X-ADDRESS=Vijfhuizen\, Nederland;X-AP
 PLE-RADIUS=72;X-TITLE=Vijfhuizen:52.352428;4.682585
END:VEVENT
END:VCALENDAR