BEGIN:VCALENDAR
VERSION:2.0
PRODID:Events Booking
BEGIN:VEVENT
UID:69eb69fdd5c1e
SUMMARY:7. Linzer PUCH-treffen
DESCRIPTION:Liebe Puch Freunde !!!
 Endlich ist es wieder so weit\,wir geh
 en in die 7 Runde von unserem Puch Treffen in Linz&nbsp\;&nbsp\;dazu laden
  wir Euch gerne ein.
 Wann: 04.Juli.2026
 Treffpunkt ab 10:00 Uhr beim A
 skö Linz Steg\, Dornacherstraße 27\, 4040 Linz
 Oldtimerausfahrt um ca 
 13:00
 *Markenoffen*
 Fürs leibliche Wohl ist natürlich wieder gesorgt
 !
 Wir freuen uns auf zahlreiches Erscheinen !!
LOCATION:Linz\, Oostenrijk
DTSTART:20260704T080000Z
DTEND:20260704T130000Z
DTSTAMP:20260424T060732Z
ORGANIZER;CN=Bromoold:MAILTO:info@bromoold.nl
GEO:48.30691;14.285918
X-APPLE-STRUCTURED-LOCATION;VALUE=URI;X-ADDRESS=Linz\, Oostenrijk;X-APPLE-R
 ADIUS=72;X-TITLE=Linz:48.30691;14.285918
END:VEVENT
END:VCALENDAR